BEGIN:VCALENDAR
VERSION:2.0
PRODID:-//Parroquia Nuestra Señora de la Asunción - ECPv6.15.20//NONSGML v1.0//EN
CALSCALE:GREGORIAN
METHOD:PUBLISH
X-WR-CALNAME:Parroquia Nuestra Señora de la Asunción
X-ORIGINAL-URL:https://www.parroquiadelaasuncion.es
X-WR-CALDESC:Eventos para Parroquia Nuestra Señora de la Asunción
REFRESH-INTERVAL;VALUE=DURATION:PT1H
X-Robots-Tag:noindex
X-PUBLISHED-TTL:PT1H
BEGIN:VTIMEZONE
TZID:Europe/Madrid
BEGIN:DAYLIGHT
TZOFFSETFROM:+0100
TZOFFSETTO:+0200
TZNAME:CEST
DTSTART:20250330T010000
END:DAYLIGHT
BEGIN:STANDARD
TZOFFSETFROM:+0200
TZOFFSETTO:+0100
TZNAME:CET
DTSTART:20251026T010000
END:STANDARD
BEGIN:DAYLIGHT
TZOFFSETFROM:+0100
TZOFFSETTO:+0200
TZNAME:CEST
DTSTART:20260329T010000
END:DAYLIGHT
BEGIN:STANDARD
TZOFFSETFROM:+0200
TZOFFSETTO:+0100
TZNAME:CET
DTSTART:20261025T010000
END:STANDARD
BEGIN:DAYLIGHT
TZOFFSETFROM:+0100
TZOFFSETTO:+0200
TZNAME:CEST
DTSTART:20270328T010000
END:DAYLIGHT
BEGIN:STANDARD
TZOFFSETFROM:+0200
TZOFFSETTO:+0100
TZNAME:CET
DTSTART:20271031T010000
END:STANDARD
END:VTIMEZONE
BEGIN:VEVENT
DTSTART;TZID=Europe/Madrid:20260501T090000
DTEND;TZID=Europe/Madrid:20260501T133000
DTSTAMP:20260422T192608
CREATED:20260422T115438Z
LAST-MODIFIED:20260422T115438Z
UID:6457-1777626000-1777642200@www.parroquiadelaasuncion.es
SUMMARY:Excursión en familia al Valle Perdido con los chicos de ACG
DESCRIPTION:
URL:https://www.parroquiadelaasuncion.es/evento/excursion-en-familia-al-valle-perdido-con-los-chicos-de-acg/
ATTACH;FMTTYPE=image/jpeg:https://www.parroquiadelaasuncion.es/wp-content/uploads/2026/04/Excursion-con-ACG-1-de-mayo-de-2026-1.jpg
END:VEVENT
END:VCALENDAR